BEGIN:VCALENDAR
VERSION:2.0
PRODID:https://www.kufer.de/kuferweb / DE
METHOD:PUBLISH
CALSCALE:GREGORIAN
X-WR-TIMEZONE:Europe/Berlin
BEGIN:VTIMEZONE
TZID:Europe/Berlin
X-LIC-LOCATION:Europe/Berlin
BEGIN:DAYLIGHT
TZOFFSETFROM:+0100
TZOFFSETTO:+0200
TZNAME:CEST
DTSTART:19700329T020000
RRULE:FREQ=YEARLY;INTERVAL=1;BYDAY=-1SU;BYMONTH=3
END:DAYLIGHT
BEGIN:STANDARD
TZOFFSETFROM:+0200
TZOFFSETTO:+0100
TZNAME:CET
DTSTART:19701025T030000
RRULE:FREQ=YEARLY;INTERVAL=1;BYDAY=-1SU;BYMONTH=10
END:STANDARD
END:VTIMEZONE
BEGIN:VEVENT
DTSTAMP:20260423T070947
DTSTART;TZID=Europe/Berlin:20260420T201500
DTEND;TZID=Europe/Berlin:20260420T214500
UID:261-R2F04-20260420T201500@VHSROTTAL-INN WEST E.V.
SUMMARY:Gesellschaftstänze für Fortgeschrittene Tanzkurs für Paare & Singles (261-R2F04) 
LOCATION:Wurmannsquick, Grund- und Mittelschule, Aula, Schulstraße 2, 84329 Wurmannsquick
END:VEVENT
BEGIN:VEVENT
DTSTAMP:20260423T070947
DTSTART;TZID=Europe/Berlin:20260427T201500
DTEND;TZID=Europe/Berlin:20260427T214500
UID:261-R2F04-20260427T201500@VHSROTTAL-INN WEST E.V.
SUMMARY:Gesellschaftstänze für Fortgeschrittene Tanzkurs für Paare & Singles (261-R2F04) 
LOCATION:Wurmannsquick, Grund- und Mittelschule, Aula, Schulstraße 2, 84329 Wurmannsquick
END:VEVENT
BEGIN:VEVENT
DTSTAMP:20260423T070947
DTSTART;TZID=Europe/Berlin:20260504T201500
DTEND;TZID=Europe/Berlin:20260504T214500
UID:261-R2F04-20260504T201500@VHSROTTAL-INN WEST E.V.
SUMMARY:Gesellschaftstänze für Fortgeschrittene Tanzkurs für Paare & Singles (261-R2F04) 
LOCATION:Wurmannsquick, Grund- und Mittelschule, Aula, Schulstraße 2, 84329 Wurmannsquick
END:VEVENT
BEGIN:VEVENT
DTSTAMP:20260423T070947
DTSTART;TZID=Europe/Berlin:20260511T201500
DTEND;TZID=Europe/Berlin:20260511T214500
UID:261-R2F04-20260511T201500@VHSROTTAL-INN WEST E.V.
SUMMARY:Gesellschaftstänze für Fortgeschrittene Tanzkurs für Paare & Singles (261-R2F04) 
LOCATION:Wurmannsquick, Grund- und Mittelschule, Aula, Schulstraße 2, 84329 Wurmannsquick
END:VEVENT
BEGIN:VEVENT
DTSTAMP:20260423T070947
DTSTART;TZID=Europe/Berlin:20260518T201500
DTEND;TZID=Europe/Berlin:20260518T214500
UID:261-R2F04-20260518T201500@VHSROTTAL-INN WEST E.V.
SUMMARY:Gesellschaftstänze für Fortgeschrittene Tanzkurs für Paare & Singles (261-R2F04) 
LOCATION:Wurmannsquick, Grund- und Mittelschule, Aula, Schulstraße 2, 84329 Wurmannsquick
END:VEVENT
BEGIN:VEVENT
DTSTAMP:20260423T070947
DTSTART;TZID=Europe/Berlin:20260601T201500
DTEND;TZID=Europe/Berlin:20260601T214500
UID:261-R2F04-20260601T201500@VHSROTTAL-INN WEST E.V.
SUMMARY:Gesellschaftstänze für Fortgeschrittene Tanzkurs für Paare & Singles (261-R2F04) 
LOCATION:Wurmannsquick, Grund- und Mittelschule, Aula, Schulstraße 2, 84329 Wurmannsquick
END:VEVENT
END:VCALENDAR