BEGIN:VCALENDAR
VERSION:2.0
PRODID:https://www.kufer.de/kuferweb / DE
METHOD:PUBLISH
CALSCALE:GREGORIAN
X-WR-TIMEZONE:Europe/Berlin
BEGIN:VTIMEZONE
TZID:Europe/Berlin
X-LIC-LOCATION:Europe/Berlin
BEGIN:DAYLIGHT
TZOFFSETFROM:+0100
TZOFFSETTO:+0200
TZNAME:CEST
DTSTART:19700329T020000
RRULE:FREQ=YEARLY;INTERVAL=1;BYDAY=-1SU;BYMONTH=3
END:DAYLIGHT
BEGIN:STANDARD
TZOFFSETFROM:+0200
TZOFFSETTO:+0100
TZNAME:CET
DTSTART:19701025T030000
RRULE:FREQ=YEARLY;INTERVAL=1;BYDAY=-1SU;BYMONTH=10
END:STANDARD
END:VTIMEZONE
BEGIN:VEVENT
DTSTAMP:20260425T171804
DTSTART;TZID=Europe/Berlin:20260606T123000
DTEND;TZID=Europe/Berlin:20260606T150000
UID:261-R2H038-20260606T123000@VHSROTTAL-INN WEST E.V.
SUMMARY:Zeichnen mit Kohle - Formen und Gebäude (261-R2H038) 
LOCATION:Eggenfelden, Altes Rathaus, DIGI- und Senioren-Treff, 2. Stock, Stadtplatz 1, 84307 Eggenfelden
END:VEVENT
END:VCALENDAR